Package: dmrseq Version: 1.27.0 Command: /Library/Frameworks/R.framework/Resources/bin/R CMD build --keep-empty-dirs --no-resave-data dmrseq StartedAt: 2025-02-12 16:33:58 -0500 (Wed, 12 Feb 2025) EndedAt: 2025-02-12 16:37:10 -0500 (Wed, 12 Feb 2025) EllapsedTime: 191.9 seconds RetCode: 0 Status: OK PackageFile: dmrseq_1.27.0.tar.gz PackageFileSize: 2.962 MiB