Package: dominoSignal Version: 1.1.0 Command: /Library/Frameworks/R.framework/Resources/bin/R CMD build --keep-empty-dirs --no-resave-data dominoSignal StartedAt: 2025-02-09 16:10:30 -0500 (Sun, 09 Feb 2025) EndedAt: 2025-02-09 16:19:17 -0500 (Sun, 09 Feb 2025) EllapsedTime: 527.4 seconds RetCode: 0 Status: OK PackageFile: dominoSignal_1.1.0.tar.gz PackageFileSize: 1.062 MiB