Package: dominoSignal Version: 1.1.0 Command: /home/biocbuild/R/R/bin/R CMD build --keep-empty-dirs --no-resave-data dominoSignal StartedAt: 2025-01-28 22:33:59 -0000 (Tue, 28 Jan 2025) EndedAt: 2025-01-28 22:43:57 -0000 (Tue, 28 Jan 2025) EllapsedTime: 598.2 seconds RetCode: 0 Status: OK PackageFile: dominoSignal_1.1.0.tar.gz PackageFileSize: 624.7 KiB