Package: dominoSignal Version: 1.1.0 Command: /home/biocbuild/R/R/bin/R CMD check --install=check:dominoSignal.install-out.txt --library=/home/biocbuild/R/R/site-library --no-vignettes --timings dominoSignal_1.1.0.tar.gz StartedAt: 2025-01-28 10:05:56 -0000 (Tue, 28 Jan 2025) EndedAt: 2025-01-28 10:09:29 -0000 (Tue, 28 Jan 2025) EllapsedTime: 213.2 seconds RetCode: 0 Status: WARNINGS CheckDir: dominoSignal.Rcheck Warnings: 5