Package: dominoSignal Version: 1.1.0 Command: /Library/Frameworks/R.framework/Resources/bin/R CMD INSTALL dominoSignal StartedAt: 2025-02-09 15:43:30 -0500 (Sun, 09 Feb 2025) EndedAt: 2025-02-09 15:44:03 -0500 (Sun, 09 Feb 2025) EllapsedTime: 32.4 seconds RetCode: 0 Status: OK