Package: dominoSignal Version: 1.1.0 Command: /home/biocbuild/bbs-3.21-bioc/R/bin/R CMD INSTALL dominoSignal StartedAt: 2025-02-12 15:26:13 -0500 (Wed, 12 Feb 2025) EndedAt: 2025-02-12 15:26:36 -0500 (Wed, 12 Feb 2025) EllapsedTime: 22.8 seconds RetCode: 0 Status: OK