Package: dominoSignal Version: 1.1.0 Command: E:\biocbuild\bbs-3.21-bioc\R\bin\R.exe CMD check --no-multiarch --install=check:dominoSignal.install-out.txt --library=E:\biocbuild\bbs-3.21-bioc\R\library --no-vignettes --timings dominoSignal_1.1.0.tar.gz StartedAt: 2025-02-10 00:37:59 -0500 (Mon, 10 Feb 2025) EndedAt: 2025-02-10 00:41:31 -0500 (Mon, 10 Feb 2025) EllapsedTime: 212.0 seconds RetCode: 0 Status: OK CheckDir: dominoSignal.Rcheck Warnings: 0