Package: doppelgangR Version: 1.35.0 Command: /Library/Frameworks/R.framework/Resources/bin/R CMD check --install=check:doppelgangR.install-out.txt --library=/Library/Frameworks/R.framework/Resources/library --no-vignettes --timings doppelgangR_1.35.0.tar.gz StartedAt: 2025-02-12 19:04:25 -0500 (Wed, 12 Feb 2025) EndedAt: 2025-02-12 19:06:10 -0500 (Wed, 12 Feb 2025) EllapsedTime: 105.3 seconds RetCode: 0 Status: OK CheckDir: doppelgangR.Rcheck Warnings: 0