Package: doppelgangR Version: 1.35.0 Command: /Library/Frameworks/R.framework/Resources/bin/R CMD INSTALL doppelgangR StartedAt: 2025-02-09 15:20:28 -0500 (Sun, 09 Feb 2025) EndedAt: 2025-02-09 15:20:41 -0500 (Sun, 09 Feb 2025) EllapsedTime: 13.2 seconds RetCode: 0 Status: OK