Package: doppelgangR Version: 1.35.0 Command: /Library/Frameworks/R.framework/Resources/bin/R CMD build --keep-empty-dirs --no-resave-data doppelgangR StartedAt: 2025-02-09 16:36:59 -0500 (Sun, 09 Feb 2025) EndedAt: 2025-02-09 16:38:21 -0500 (Sun, 09 Feb 2025) EllapsedTime: 82.2 seconds RetCode: 0 Status: OK PackageFile: doppelgangR_1.35.0.tar.gz PackageFileSize: 462.8 KiB