Package: doppelgangR Version: 1.35.0 Command: /Library/Frameworks/R.framework/Resources/bin/R CMD INSTALL doppelgangR StartedAt: 2025-02-12 15:32:43 -0500 (Wed, 12 Feb 2025) EndedAt: 2025-02-12 15:33:26 -0500 (Wed, 12 Feb 2025) EllapsedTime: 43.7 seconds RetCode: 0 Status: OK