Package: doppelgangR Version: 1.35.0 Command: /home/biocbuild/bbs-3.21-bioc/R/bin/R CMD build --keep-empty-dirs --no-resave-data doppelgangR StartedAt: 2025-02-09 17:04:01 -0500 (Sun, 09 Feb 2025) EndedAt: 2025-02-09 17:05:14 -0500 (Sun, 09 Feb 2025) EllapsedTime: 73.1 seconds RetCode: 0 Status: OK PackageFile: doppelgangR_1.35.0.tar.gz PackageFileSize: 457.6 KiB