Package: doppelgangR Version: 1.35.0 Command: /home/biocbuild/bbs-3.21-bioc/R/bin/R CMD INSTALL doppelgangR StartedAt: 2025-02-09 15:28:06 -0500 (Sun, 09 Feb 2025) EndedAt: 2025-02-09 15:28:39 -0500 (Sun, 09 Feb 2025) EllapsedTime: 33.2 seconds RetCode: 0 Status: OK