Package: doppelgangR Version: 1.35.0 Command: rm -rf doppelgangR.buildbin-libdir && mkdir doppelgangR.buildbin-libdir && E:\biocbuild\bbs-3.21-bioc\R\bin\R.exe CMD INSTALL --build --library=doppelgangR.buildbin-libdir doppelgangR_1.35.0.tar.gz StartedAt: 2025-02-10 07:39:11 -0500 (Mon, 10 Feb 2025) EndedAt: 2025-02-10 07:40:12 -0500 (Mon, 10 Feb 2025) EllapsedTime: 60.4 seconds RetCode: 0 Status: OK PackageFile: doppelgangR_1.35.0.zip PackageFileSize: 812.5 KiB