Package: doppelgangR Version: 1.35.0 Command: chmod a+r doppelgangR -R && E:\biocbuild\bbs-3.21-bioc\R\bin\R.exe CMD build --keep-empty-dirs --no-resave-data doppelgangR StartedAt: 2025-02-09 18:26:36 -0500 (Sun, 09 Feb 2025) EndedAt: 2025-02-09 18:28:46 -0500 (Sun, 09 Feb 2025) EllapsedTime: 130.4 seconds RetCode: 0 Status: OK PackageFile: doppelgangR_1.35.0.tar.gz PackageFileSize: 329.1 KiB