Package: doseR Version: 1.23.0 Command: /Library/Frameworks/R.framework/Resources/bin/R CMD build --keep-empty-dirs --no-resave-data doseR StartedAt: 2025-02-04 16:34:15 -0500 (Tue, 04 Feb 2025) EndedAt: 2025-02-04 16:34:52 -0500 (Tue, 04 Feb 2025) EllapsedTime: 37.8 seconds RetCode: 0 Status: OK PackageFile: doseR_1.23.0.tar.gz PackageFileSize: 1.343 MiB