Package: doseR Version: 1.23.0 Command: /Library/Frameworks/R.framework/Resources/bin/R CMD check --install=check:doseR.install-out.txt --library=/Library/Frameworks/R.framework/Resources/library --no-vignettes --timings doseR_1.23.0.tar.gz StartedAt: 2025-02-04 20:12:45 -0500 (Tue, 04 Feb 2025) EndedAt: 2025-02-04 20:15:49 -0500 (Tue, 04 Feb 2025) EllapsedTime: 183.5 seconds RetCode: 0 Status: OK CheckDir: doseR.Rcheck Warnings: 0