Package: doseR Version: 1.23.0 Command: /home/biocbuild/bbs-3.21-bioc/R/bin/R CMD build --keep-empty-dirs --no-resave-data doseR StartedAt: 2025-02-04 17:02:16 -0500 (Tue, 04 Feb 2025) EndedAt: 2025-02-04 17:02:48 -0500 (Tue, 04 Feb 2025) EllapsedTime: 32.0 seconds RetCode: 0 Status: OK PackageFile: doseR_1.23.0.tar.gz PackageFileSize: 1.34 MiB