Package: doseR Version: 1.23.0 Command: rm -rf doseR.buildbin-libdir && mkdir doseR.buildbin-libdir && E:\biocbuild\bbs-3.21-bioc\R\bin\R.exe CMD INSTALL --build --library=doseR.buildbin-libdir doseR_1.23.0.tar.gz StartedAt: 2025-02-10 07:39:23 -0500 (Mon, 10 Feb 2025) EndedAt: 2025-02-10 07:39:52 -0500 (Mon, 10 Feb 2025) EllapsedTime: 29.0 seconds RetCode: 0 Status: OK PackageFile: doseR_1.23.0.zip PackageFileSize: 1000 KiB