Package: doseR Version: 1.23.0 Command: E:\biocbuild\bbs-3.21-bioc\R\bin\R.exe CMD check --no-multiarch --install=check:doseR.install-out.txt --library=E:\biocbuild\bbs-3.21-bioc\R\library --no-vignettes --timings doseR_1.23.0.tar.gz StartedAt: 2025-02-10 00:38:43 -0500 (Mon, 10 Feb 2025) EndedAt: 2025-02-10 00:41:59 -0500 (Mon, 10 Feb 2025) EllapsedTime: 195.6 seconds RetCode: 0 Status: OK CheckDir: doseR.Rcheck Warnings: 0