Package: doseR Version: 1.23.0 Command: E:\biocbuild\bbs-3.21-bioc\R\bin\R.exe CMD INSTALL doseR StartedAt: 2025-02-12 16:41:21 -0500 (Wed, 12 Feb 2025) EndedAt: 2025-02-12 16:41:50 -0500 (Wed, 12 Feb 2025) EllapsedTime: 28.1 seconds RetCode: 0 Status: OK