Package: drawProteins Version: 1.27.0 Command: /Library/Frameworks/R.framework/Resources/bin/R CMD INSTALL drawProteins StartedAt: 2025-02-09 15:06:01 -0500 (Sun, 09 Feb 2025) EndedAt: 2025-02-09 15:06:03 -0500 (Sun, 09 Feb 2025) EllapsedTime: 1.9 seconds RetCode: 0 Status: OK