Package: drawProteins Version: 1.27.0 Command: /home/biocbuild/bbs-3.21-bioc/R/bin/R CMD INSTALL drawProteins StartedAt: 2025-02-09 15:09:25 -0500 (Sun, 09 Feb 2025) EndedAt: 2025-02-09 15:09:29 -0500 (Sun, 09 Feb 2025) EllapsedTime: 3.7 seconds RetCode: 0 Status: OK