Package: drawProteins Version: 1.27.0 Command: chmod a+r drawProteins -R && E:\biocbuild\bbs-3.21-bioc\R\bin\R.exe CMD build --keep-empty-dirs --no-resave-data drawProteins StartedAt: 2025-02-12 18:30:51 -0500 (Wed, 12 Feb 2025) EndedAt: 2025-02-12 18:32:00 -0500 (Wed, 12 Feb 2025) EllapsedTime: 69.4 seconds RetCode: 0 Status: OK PackageFile: drawProteins_1.27.0.tar.gz PackageFileSize: 805.1 KiB