Package: drawProteins Version: 1.27.0 Command: E:\biocbuild\bbs-3.21-bioc\R\bin\R.exe CMD check --no-multiarch --install=check:drawProteins.install-out.txt --library=E:\biocbuild\bbs-3.21-bioc\R\library --no-vignettes --timings drawProteins_1.27.0.tar.gz StartedAt: 2025-02-10 00:40:29 -0500 (Mon, 10 Feb 2025) EndedAt: 2025-02-10 00:41:21 -0500 (Mon, 10 Feb 2025) EllapsedTime: 51.7 seconds RetCode: 0 Status: OK CheckDir: drawProteins.Rcheck Warnings: 0