Package: dreamlet Version: 1.5.0 Maintainer: Gabriel Hoffman MaintainerEmail: gabriel.hoffman at mssm.edu git_url: https://git.bioconductor.org/packages/dreamlet git_branch: devel git_last_commit: dd6cd83 git_last_commit_date: 2024-10-29 11:23:25 -0500 (Tue, 29 Oct 2024)