Package: dreamlet Version: 1.5.0 Command: /Library/Frameworks/R.framework/Resources/bin/R CMD build --keep-empty-dirs --no-resave-data dreamlet StartedAt: 2025-02-03 16:47:48 -0500 (Mon, 03 Feb 2025) EndedAt: 2025-02-03 16:50:16 -0500 (Mon, 03 Feb 2025) EllapsedTime: 147.6 seconds RetCode: 0 Status: OK PackageFile: dreamlet_1.5.0.tar.gz PackageFileSize: 4.411 MiB