Package: dreamlet Version: 1.5.0 Command: /Library/Frameworks/R.framework/Resources/bin/R CMD INSTALL dreamlet StartedAt: 2025-02-09 15:29:06 -0500 (Sun, 09 Feb 2025) EndedAt: 2025-02-09 15:29:32 -0500 (Sun, 09 Feb 2025) EllapsedTime: 25.9 seconds RetCode: 0 Status: OK