Package: dreamlet Version: 1.5.0 Command: /Library/Frameworks/R.framework/Resources/bin/R CMD build --keep-empty-dirs --no-resave-data dreamlet StartedAt: 2025-02-04 16:34:18 -0500 (Tue, 04 Feb 2025) EndedAt: 2025-02-04 16:41:23 -0500 (Tue, 04 Feb 2025) EllapsedTime: 424.7 seconds RetCode: 0 Status: OK PackageFile: dreamlet_1.5.0.tar.gz PackageFileSize: 4.406 MiB