Package: dreamlet Version: 1.5.0 Command: /Library/Frameworks/R.framework/Resources/bin/R CMD check --install=check:dreamlet.install-out.txt --library=/Library/Frameworks/R.framework/Resources/library --no-vignettes --timings dreamlet_1.5.0.tar.gz StartedAt: 2025-02-09 20:25:53 -0500 (Sun, 09 Feb 2025) EndedAt: 2025-02-09 20:38:22 -0500 (Sun, 09 Feb 2025) EllapsedTime: 748.9 seconds RetCode: 0 Status: OK CheckDir: dreamlet.Rcheck Warnings: 0