Package: dreamlet Version: 1.5.0 Command: /home/biocbuild/bbs-3.21-bioc/R/bin/R CMD build --keep-empty-dirs --no-resave-data dreamlet StartedAt: 2025-02-09 17:04:15 -0500 (Sun, 09 Feb 2025) EndedAt: 2025-02-09 17:10:37 -0500 (Sun, 09 Feb 2025) EllapsedTime: 382.5 seconds RetCode: 0 Status: OK PackageFile: dreamlet_1.5.0.tar.gz PackageFileSize: 4.344 MiB