############################################################################## ############################################################################## ### ### Running command: ### ### /home/biocbuild/bbs-3.21-bioc/R/bin/R CMD check --install=check:dreamlet.install-out.txt --library=/home/biocbuild/bbs-3.21-bioc/R/site-library --timings dreamlet_1.5.0.tar.gz ### ############################################################################## ############################################################################## * using log directory ‘/home/biocbuild/bbs-3.21-bioc/meat/dreamlet.Rcheck’ * using R Under development (unstable) (2025-01-20 r87609) * using platform: x86_64-pc-linux-gnu * R was compiled by gcc (Ubuntu 13.3.0-6ubuntu2~24.04) 13.3.0 GNU Fortran (Ubuntu 13.3.0-6ubuntu2~24.04) 13.3.0 * running under: Ubuntu 24.04.1 LTS * using session charset: UTF-8 * checking for file ‘dreamlet/DESCRIPTION’ ... OK * checking extension type ... Package * this is package ‘dreamlet’ version ‘1.5.0’ * package encoding: UTF-8 * checking package namespace information ... OK * checking package dependencies ... INFO Imports includes 36 non-default packages. Importing from so many packages makes the package vulnerable to any of them becoming unavailable. Move as many as possible to Suggests and use conditionally. * checking if this is a source package ... OK * checking if there is a namespace ... OK * checking for hidden files and directories ... OK * checking for portable file names ... OK * checking for sufficient/correct file permissions ... OK * checking whether package ‘dreamlet’ can be installed ... OK * used C++ compiler: ‘g++ (Ubuntu 13.3.0-6ubuntu2~24.04) 13.3.0’ * checking C++ specification ... NOTE Specified C++11: please drop specification unless essential * checking installed package size ... OK * checking package directory ... OK * checking ‘build’ directory ... OK * checking DESCRIPTION meta-information ... OK * checking top-level files ... OK * checking for left-over files ... OK * checking index information ... OK * checking package subdirectories ... OK * checking code files for non-ASCII characters ... OK * checking R files for syntax errors ... OK * checking whether the package can be loaded ... OK * checking whether the package can be loaded with stated dependencies ... OK * checking whether the package can be unloaded cleanly ... OK * checking whether the namespace can be loaded with stated dependencies ... OK * checking whether the namespace can be unloaded cleanly ... OK * checking loading without being on the library search path ... OK * checking dependencies in R code ... OK * checking S3 generic/method consistency ... OK * checking replacement functions ... OK * checking foreign function calls ... OK * checking R code for possible problems ... OK * checking Rd files ... NOTE checkRd: (-1) meta_analysis.Rd:28: Lost braces in \itemize; meant \describe ? checkRd: (-1) meta_analysis.Rd:29: Lost braces in \itemize; meant \describe ? checkRd: (-1) meta_analysis.Rd:30: Lost braces in \itemize; meant \describe ? checkRd: (-1) outlierByAssay.Rd:22: Lost braces in \itemize; \value handles \item{}{} directly checkRd: (-1) outlierByAssay.Rd:23: Lost braces in \itemize; \value handles \item{}{} directly checkRd: (-1) outlierByAssay.Rd:24: Lost braces in \itemize; \value handles \item{}{} directly checkRd: (-1) outlierByAssay.Rd:25: Lost braces in \itemize; \value handles \item{}{} directly checkRd: (-1) outlierByAssay.Rd:26: Lost braces in \itemize; \value handles \item{}{} directly * checking Rd metadata ... OK * checking Rd cross-references ... OK * checking for missing documentation entries ... OK * checking for code/documentation mismatches ... OK * checking Rd \usage sections ... OK * checking Rd contents ... OK * checking for unstated dependencies in examples ... OK * checking line endings in C/C++/Fortran sources/headers ... OK * checking line endings in Makefiles ... OK * checking compilation flags in Makevars ... OK * checking for GNU extensions in Makefiles ... OK * checking for portable use of $(BLAS_LIBS) and $(LAPACK_LIBS) ... OK * checking use of PKG_*FLAGS in Makefiles ... OK * checking compiled code ... NOTE Note: information on .o files is not available * checking files in ‘vignettes’ ... NOTE The following directory looks like a leftover from 'knitr': ‘figure’ Please remove from your package. * checking examples ... OK Examples with CPU (user + system) or elapsed time > 5s user system elapsed zenith_gsa-methods 75.147 1.915 77.070 fitVarPart 17.726 0.307 18.051 plotPercentBars-methods 17.275 0.264 17.540 plotVarPart-methods 16.568 0.055 16.624 sortCols-method 16.359 0.064 16.428 meta_analysis 14.732 0.086 14.821 run_mash 10.158 0.185 10.339 stackAssays 9.290 0.056 9.347 compositePosteriorTest 9.059 0.105 9.164 aggregateNonCountSignal 5.937 0.423 6.375 * checking for unstated dependencies in ‘tests’ ... OK * checking tests ... Running ‘runTests.R’ OK * checking for unstated dependencies in vignettes ... OK * checking package vignettes ... OK * checking re-building of vignette outputs ... OK * checking PDF version of manual ... OK * DONE Status: 4 NOTEs See ‘/home/biocbuild/bbs-3.21-bioc/meat/dreamlet.Rcheck/00check.log’ for details.