Package: dreamlet Version: 1.5.0 Command: /home/biocbuild/bbs-3.21-bioc/R/bin/R CMD INSTALL dreamlet StartedAt: 2025-02-09 15:59:02 -0500 (Sun, 09 Feb 2025) EndedAt: 2025-02-09 16:00:10 -0500 (Sun, 09 Feb 2025) EllapsedTime: 68.5 seconds RetCode: 0 Status: OK