Package: dreamlet Version: 1.5.0 Command: rm -rf dreamlet.buildbin-libdir && mkdir dreamlet.buildbin-libdir && E:\biocbuild\bbs-3.21-bioc\R\bin\R.exe CMD INSTALL --build --library=dreamlet.buildbin-libdir dreamlet_1.5.0.tar.gz StartedAt: 2025-02-05 07:51:24 -0500 (Wed, 05 Feb 2025) EndedAt: 2025-02-05 07:53:20 -0500 (Wed, 05 Feb 2025) EllapsedTime: 115.9 seconds RetCode: 0 Status: OK PackageFile: dreamlet_1.5.0.zip PackageFileSize: 3.839 MiB