Package: dreamlet Version: 1.5.0 Command: E:\biocbuild\bbs-3.21-bioc\R\bin\R.exe CMD INSTALL dreamlet StartedAt: 2025-02-04 16:56:18 -0500 (Tue, 04 Feb 2025) EndedAt: 2025-02-04 16:58:46 -0500 (Tue, 04 Feb 2025) EllapsedTime: 148.4 seconds RetCode: 0 Status: OK