Package: drugTargetInteractions Version: 1.15.0 Command: /Library/Frameworks/R.framework/Resources/bin/R CMD build --keep-empty-dirs --no-resave-data drugTargetInteractions StartedAt: 2025-02-09 16:11:16 -0500 (Sun, 09 Feb 2025) EndedAt: 2025-02-09 16:12:00 -0500 (Sun, 09 Feb 2025) EllapsedTime: 43.4 seconds RetCode: 0 Status: OK PackageFile: drugTargetInteractions_1.15.0.tar.gz PackageFileSize: 959 KiB