Package: drugTargetInteractions Version: 1.15.0 Command: /home/biocbuild/R/R/bin/R CMD check --install=check:drugTargetInteractions.install-out.txt --library=/home/biocbuild/R/R/site-library --no-vignettes --timings drugTargetInteractions_1.15.0.tar.gz StartedAt: 2025-01-28 10:08:43 -0000 (Tue, 28 Jan 2025) EndedAt: 2025-01-28 10:15:23 -0000 (Tue, 28 Jan 2025) EllapsedTime: 400.4 seconds RetCode: 0 Status: WARNINGS CheckDir: drugTargetInteractions.Rcheck Warnings: 5