Package: drugTargetInteractions Version: 1.15.0 Command: rm -rf drugTargetInteractions.buildbin-libdir && mkdir drugTargetInteractions.buildbin-libdir && /Users/biocbuild/BBS/utils/build-universal.sh drugTargetInteractions_1.15.0.tar.gz /Library/Frameworks/R.framework/Resources/bin/R drugTargetInteractions.buildbin-libdir StartedAt: 2025-02-13 00:34:43 -0500 (Thu, 13 Feb 2025) EndedAt: 2025-02-13 00:35:37 -0500 (Thu, 13 Feb 2025) EllapsedTime: 53.9 seconds RetCode: 0 Status: OK PackageFile: drugTargetInteractions_1.15.0.tgz PackageFileSize: 1009 KiB