Package: drugTargetInteractions Version: 1.15.0 Command: /Library/Frameworks/R.framework/Resources/bin/R CMD check --install=check:drugTargetInteractions.install-out.txt --library=/Library/Frameworks/R.framework/Resources/library --no-vignettes --timings drugTargetInteractions_1.15.0.tar.gz StartedAt: 2025-02-09 20:26:19 -0500 (Sun, 09 Feb 2025) EndedAt: 2025-02-09 20:32:22 -0500 (Sun, 09 Feb 2025) EllapsedTime: 362.9 seconds RetCode: 0 Status: OK CheckDir: drugTargetInteractions.Rcheck Warnings: 0