Package: drugTargetInteractions Version: 1.15.0 Command: /home/biocbuild/bbs-3.21-bioc/R/bin/R CMD build --keep-empty-dirs --no-resave-data drugTargetInteractions StartedAt: 2025-02-09 17:04:38 -0500 (Sun, 09 Feb 2025) EndedAt: 2025-02-09 17:06:19 -0500 (Sun, 09 Feb 2025) EllapsedTime: 101.1 seconds RetCode: 0 Status: OK PackageFile: drugTargetInteractions_1.15.0.tar.gz PackageFileSize: 958.7 KiB