Package: drugTargetInteractions Version: 1.15.0 Command: /home/biocbuild/bbs-3.21-bioc/R/bin/R CMD check --install=check:drugTargetInteractions.install-out.txt --library=/home/biocbuild/bbs-3.21-bioc/R/site-library --timings drugTargetInteractions_1.15.0.tar.gz StartedAt: 2025-02-09 21:56:22 -0500 (Sun, 09 Feb 2025) EndedAt: 2025-02-09 22:02:43 -0500 (Sun, 09 Feb 2025) EllapsedTime: 380.5 seconds RetCode: 0 Status: OK CheckDir: drugTargetInteractions.Rcheck Warnings: 0