Package: drugTargetInteractions Version: 1.15.0 Command: /home/biocbuild/bbs-3.21-bioc/R/bin/R CMD INSTALL drugTargetInteractions StartedAt: 2025-02-12 15:40:35 -0500 (Wed, 12 Feb 2025) EndedAt: 2025-02-12 15:41:16 -0500 (Wed, 12 Feb 2025) EllapsedTime: 41.5 seconds RetCode: 0 Status: OK