Package: drugTargetInteractions Version: 1.15.0 Command: chmod a+r drugTargetInteractions -R && E:\biocbuild\bbs-3.21-bioc\R\bin\R.exe CMD build --keep-empty-dirs --no-resave-data drugTargetInteractions StartedAt: 2025-02-09 18:27:52 -0500 (Sun, 09 Feb 2025) EndedAt: 2025-02-09 18:30:24 -0500 (Sun, 09 Feb 2025) EllapsedTime: 151.7 seconds RetCode: 0 Status: OK PackageFile: drugTargetInteractions_1.15.0.tar.gz PackageFileSize: 959.2 KiB