Package: drugTargetInteractions Version: 1.15.0 Command: E:\biocbuild\bbs-3.21-bioc\R\bin\R.exe CMD check --no-multiarch --install=check:drugTargetInteractions.install-out.txt --library=E:\biocbuild\bbs-3.21-bioc\R\library --no-vignettes --timings drugTargetInteractions_1.15.0.tar.gz StartedAt: 2025-02-10 00:41:29 -0500 (Mon, 10 Feb 2025) EndedAt: 2025-02-10 00:47:54 -0500 (Mon, 10 Feb 2025) EllapsedTime: 385.2 seconds RetCode: 0 Status: OK CheckDir: drugTargetInteractions.Rcheck Warnings: 0