Package: drugTargetInteractions Version: 1.15.0 Command: E:\biocbuild\bbs-3.21-bioc\R\bin\R.exe CMD INSTALL drugTargetInteractions StartedAt: 2025-02-12 16:22:46 -0500 (Wed, 12 Feb 2025) EndedAt: 2025-02-12 16:24:08 -0500 (Wed, 12 Feb 2025) EllapsedTime: 82.4 seconds RetCode: 0 Status: OK