Package: dupRadar Version: 1.37.0 Command: rm -rf dupRadar.buildbin-libdir && mkdir dupRadar.buildbin-libdir && /Users/biocbuild/BBS/utils/build-universal.sh dupRadar_1.37.0.tar.gz /Library/Frameworks/R.framework/Resources/bin/R dupRadar.buildbin-libdir StartedAt: 2025-02-12 22:18:12 -0500 (Wed, 12 Feb 2025) EndedAt: 2025-02-12 22:18:16 -0500 (Wed, 12 Feb 2025) EllapsedTime: 4.1 seconds RetCode: 0 Status: OK PackageFile: dupRadar_1.37.0.tgz PackageFileSize: 4.819 MiB