Package: dupRadar Version: 1.37.0 Command: /Library/Frameworks/R.framework/Resources/bin/R CMD build --keep-empty-dirs --no-resave-data dupRadar StartedAt: 2025-02-09 16:11:49 -0500 (Sun, 09 Feb 2025) EndedAt: 2025-02-09 16:12:05 -0500 (Sun, 09 Feb 2025) EllapsedTime: 15.2 seconds RetCode: 0 Status: OK PackageFile: dupRadar_1.37.0.tar.gz PackageFileSize: 3.857 MiB