Package: dupRadar Version: 1.37.0 Command: /home/biocbuild/R/R/bin/R CMD check --install=check:dupRadar.install-out.txt --library=/home/biocbuild/R/R/site-library --no-vignettes --timings dupRadar_1.37.0.tar.gz StartedAt: 2025-01-28 10:10:05 -0000 (Tue, 28 Jan 2025) EndedAt: 2025-01-28 10:10:53 -0000 (Tue, 28 Jan 2025) EllapsedTime: 48.0 seconds RetCode: 0 Status: OK CheckDir: dupRadar.Rcheck Warnings: 0