Package: dupRadar Version: 1.37.0 Command: /Library/Frameworks/R.framework/Resources/bin/R CMD INSTALL dupRadar StartedAt: 2025-02-12 15:05:53 -0500 (Wed, 12 Feb 2025) EndedAt: 2025-02-12 15:06:16 -0500 (Wed, 12 Feb 2025) EllapsedTime: 23.2 seconds RetCode: 0 Status: OK