Package: dupRadar Version: 1.37.0 Command: /home/biocbuild/bbs-3.21-bioc/R/bin/R CMD INSTALL dupRadar StartedAt: 2025-02-09 15:06:23 -0500 (Sun, 09 Feb 2025) EndedAt: 2025-02-09 15:07:05 -0500 (Sun, 09 Feb 2025) EllapsedTime: 41.9 seconds RetCode: 0 Status: OK